BEGIN:VCALENDAR
VERSION:2.0
PRODID:-//Prof. Bawazir Pharma Consulting Center - ECPv6.15.20//NONSGML v1.0//EN
CALSCALE:GREGORIAN
METHOD:PUBLISH
X-WR-CALNAME:Prof. Bawazir Pharma Consulting Center
X-ORIGINAL-URL:https://bawazirpharma.com
X-WR-CALDESC:Events for Prof. Bawazir Pharma Consulting Center
REFRESH-INTERVAL;VALUE=DURATION:PT1H
X-Robots-Tag:noindex
X-PUBLISHED-TTL:PT1H
BEGIN:VTIMEZONE
TZID:Europe/Moscow
BEGIN:STANDARD
TZOFFSETFROM:+0300
TZOFFSETTO:+0300
TZNAME:MSK
DTSTART:20250101T000000
END:STANDARD
END:VTIMEZONE
BEGIN:VEVENT
DTSTART;TZID=Europe/Moscow:20260119T090000
DTEND;TZID=Europe/Moscow:20260119T160000
DTSTAMP:20260425T163744
CREATED:20251221T225829Z
LAST-MODIFIED:20260117T075234Z
UID:7574-1768813200-1768838400@bawazirpharma.com
SUMMARY:Basics of Drug Regulatory Affairs SFDA System Explained
DESCRIPTION:Date of training 19 January 2026 Riyadh Saudi Arabia \n\n\n\nFEES\nSAUDI RIYAL\n\n\nREGISTRATION FEES \nSAR 3400.00\n\n\nEARLY BIRD REGISTRATION FEE  \nPAY YOUR FEE BEFORE  18  January 2026.\n\nSAR 2400.00\n\n\n\n\nOVERVIEW \nUnderstanding drug regulatory affairs is very important for persons working in pharmaceutical sector in the region. This course is specifically designed for persons working in the regulatory affairs departments or related fields\, who need knowledge of the SFDA regulatory processes. This training will also enhance understanding and be beneficial to persons who work in clinical research\, data management\, basic research\, project management and marketing\, etc. \nDownload Brochure Basics of Drug Regulatory Affairs SFDA Explained 19 January 2026 Riyadh
URL:https://bawazirpharma.com/event/basics-of-drug-regulatory-affairs-sfda-system-explained-2/
LOCATION:Bawazir Pharma Office\, PJW5+79\, Riyadh\, 13513\, Saudi Arabia
ORGANIZER;CN="Bawazir Pharma Consulting":MAILTO:info@bawazirpharma.com
END:VEVENT
BEGIN:VEVENT
DTSTART;TZID=Europe/Moscow:20260120T090000
DTEND;TZID=Europe/Moscow:20260121T160000
DTSTAMP:20260425T163744
CREATED:20251221T222603Z
LAST-MODIFIED:20260117T074941Z
UID:7565-1768899600-1769011200@bawazirpharma.com
SUMMARY:Comprehensive SFDA Pharmacovigilance System Explained Basic and Intermediate
DESCRIPTION:Date of training 20-21 Januaruy 2026 Riyadh Saudi Arabia\n\n\n\nFEES\nSAUDI RIYAL\n\n\nREGISTRATION FEES \nSAR 6500.00\n\n\nEARLY BIRDS REGISTRATION FEE  \nPAY YOUR FEE BEFORE 18 Januaruy 2025.\n\nSAR 5200.00\n\n\n\n\nOVERVIEW \nUnderstanding Pharmacovigilance System in Saudi Arabia is very important for persons working in pharmaceutical sector in the region. This course is specifically designed for persons working as Qualified Person of Pharmacovigilance (QPPV) in the regulatory affairs departments or related fields\, who need knowledge of the SFDA Pharmacovigilance System and processes. This training will also enhance understanding and be beneficial to persons who work in clinical research\, data management\, basic research\, and marketing\, etc. \n  \nDownload Brochure Comprehensive SFDA Pharmacovigilance System Explained Basic and Intermediate_20-21 January_2026 Riyadh
URL:https://bawazirpharma.com/event/comprehensive-sfda-pharmacovigilance-system-explained-basic-and-intermediate-2/
LOCATION:Bawazir Pharma Office\, PJW5+79\, Riyadh\, 13513\, Saudi Arabia
ORGANIZER;CN="Bawazir Pharma Consulting":MAILTO:info@bawazirpharma.com
END:VEVENT
BEGIN:VEVENT
DTSTART;TZID=Europe/Moscow:20260406T090000
DTEND;TZID=Europe/Moscow:20260406T160000
DTSTAMP:20260425T163744
CREATED:20260226T122937Z
LAST-MODIFIED:20260226T123551Z
UID:7614-1775466000-1775491200@bawazirpharma.com
SUMMARY:Basics of Drug Regulatory Affairs SFDA System Explained
DESCRIPTION:Date of training 6 April 2026 Riyadh Saudi Arabia \n\n\n\nFEES\nSAUDI RIYAL\n\n\nREGISTRATION FEES \nSAR 3400.00\n\n\nEARLY BIRD REGISTRATION FEE  \nPAY YOUR FEE BEFORE  3  April 2026.\n\nSAR 2400.00\n\n\n\n\nOVERVIEW \nUnderstanding drug regulatory affairs is very important for persons working in pharmaceutical sector in the region. This course is specifically designed for persons working in the regulatory affairs departments or related fields\, who need knowledge of the SFDA regulatory processes. This training will also enhance understanding and be beneficial to persons who work in clinical research\, data management\, basic research\, project management and marketing\, etc. \nDownload Brochure Basics of Drug Regulatory Affairs SFDA Explained 6 April 2026 Riyadh
URL:https://bawazirpharma.com/event/basics-of-drug-regulatory-affairs-sfda-system-explained-3/
LOCATION:Bawazir Pharma Office\, PJW5+79\, Riyadh\, 13513\, Saudi Arabia
ORGANIZER;CN="Bawazir Pharma Consulting":MAILTO:info@bawazirpharma.com
END:VEVENT
BEGIN:VEVENT
DTSTART;TZID=Europe/Moscow:20260407T090000
DTEND;TZID=Europe/Moscow:20260408T160000
DTSTAMP:20260425T163744
CREATED:20260226T125441Z
LAST-MODIFIED:20260226T125441Z
UID:7620-1775552400-1775664000@bawazirpharma.com
SUMMARY:Comprehensive SFDA Pharmacovigilance System Explained Basic and Intermediate
DESCRIPTION:Date of training 7-8 April 2026 Riyadh Saudi Arabia\n\n\n\nFEES\nSAUDI RIYAL\n\n\nREGISTRATION FEES \nSAR 6500.00\n\n\nEARLY BIRDS REGISTRATION FEE  \nPAY YOUR FEE BEFORE 3 April 2026.\n\nSAR 5200.00\n\n\n\n\nOVERVIEW \nUnderstanding Pharmacovigilance System in Saudi Arabia is very important for persons working in pharmaceutical sector in the region. This course is specifically designed for persons working as Qualified Person of Pharmacovigilance (QPPV) in the regulatory affairs departments or related fields\, who need knowledge of the SFDA Pharmacovigilance System and processes. This training will also enhance understanding and be beneficial to persons who work in clinical research\, data management\, basic research\, and marketing\, etc. \n  \nDownload Brochure Comprehensive SFDA Pharmacovigilance System Explained Basic and Intermediate_7-8 April_2026 Riyadh
URL:https://bawazirpharma.com/event/comprehensive-sfda-pharmacovigilance-system-explained-basic-and-intermediate-3/
LOCATION:Bawazir Pharma Office\, PJW5+79\, Riyadh\, 13513\, Saudi Arabia
ORGANIZER;CN="Bawazir Pharma Consulting":MAILTO:info@bawazirpharma.com
END:VEVENT
BEGIN:VEVENT
DTSTART;TZID=Europe/Moscow:20260409T090000
DTEND;TZID=Europe/Moscow:20260409T160000
DTSTAMP:20260425T163744
CREATED:20260321T013612Z
LAST-MODIFIED:20260330T192700Z
UID:7633-1775725200-1775750400@bawazirpharma.com
SUMMARY:Common Technical Documents (CTD) and (eCTD) preparation
DESCRIPTION:Date of training 9 April 2026 Riyadh Saudi Arabia \n\n\n\nFEES\nSAUDI RIYAL\n\n\nREGISTRATION FEES \nSAR 2900.00\n\n\nEARLY BIRDS REGISTRATION FEE  \nPAY YOUR FEE BEFORE 7 April 2026. \n\nSAR 2000.00\n\n\n\n\nOVERVIEW \nThis course will offer insight into the compilation of the  eCTDs\, share experience and best practices gained during eCTD  submissions in the GCC\, explain the eCTD review and lifecycle process and the upcoming eCTD requirements. \n  \nDownload Brochure Common Technical Documents (CTD) and (eCTD) preparation 9_April_2026 Riyadh
URL:https://bawazirpharma.com/event/common-technical-documents-ctd-and-ectd-preparation/
LOCATION:Bawazir Pharma Office\, PJW5+79\, Riyadh\, 13513\, Saudi Arabia
ORGANIZER;CN="Bawazir Pharma Consulting":MAILTO:info@bawazirpharma.com
END:VEVENT
BEGIN:VEVENT
DTSTART;TZID=Europe/Moscow:20260511T090000
DTEND;TZID=Europe/Moscow:20260511T160000
DTSTAMP:20260425T163744
CREATED:20260419T140602Z
LAST-MODIFIED:20260419T140937Z
UID:7663-1778490000-1778515200@bawazirpharma.com
SUMMARY:Basics of Drug Regulatory Affairs SFDA System Explained
DESCRIPTION:Date of training 11 May 2026 Riyadh Saudi Arabia \n\n\n\nFEES\nSAUDI RIYAL\n\n\nREGISTRATION FEES \nSAR 3400.00\n\n\nEARLY BIRD REGISTRATION FEE  \nPAY YOUR FEE BEFORE  9  MAY 2026.\n\nSAR 2400.00\n\n\n\n\nOVERVIEW \nUnderstanding drug regulatory affairs is very important for persons working in pharmaceutical sector in the region. This course is specifically designed for persons working in the regulatory affairs departments or related fields\, who need knowledge of the SFDA regulatory processes. This training will also enhance understanding and be beneficial to persons who work in clinical research\, data management\, basic research\, project management and marketing\, etc. \nDownload Brochure Basics of Drug Regulatory Affairs SFDA Explained 11 May 2026 Riyadh
URL:https://bawazirpharma.com/event/basics-of-drug-regulatory-affairs-sfda-system-explained-4/
LOCATION:Bawazir Pharma Office\, PJW5+79\, Riyadh\, 13513\, Saudi Arabia
ORGANIZER;CN="Bawazir Pharma Consulting":MAILTO:info@bawazirpharma.com
END:VEVENT
BEGIN:VEVENT
DTSTART;TZID=Europe/Moscow:20260512T090000
DTEND;TZID=Europe/Moscow:20260513T160000
DTSTAMP:20260425T163744
CREATED:20260419T143503Z
LAST-MODIFIED:20260420T090935Z
UID:7671-1778576400-1778688000@bawazirpharma.com
SUMMARY:Comprehensive SFDA Pharmacovigilance System Explained Basic and Intermediate
DESCRIPTION:Date of training 12-13 May 2026 Riyadh Saudi Arabia\n\n\n\nFEES\nSAUDI RIYAL\n\n\nREGISTRATION FEES \nSAR 6500.00\n\n\nEARLY BIRDS REGISTRATION FEE  \nPAY YOUR FEE BEFORE 11 May 2026.\n\nSAR 5200.00\n\n\n\n\nOVERVIEW \nUnderstanding Pharmacovigilance System in Saudi Arabia is very important for persons working in pharmaceutical sector in the region. This course is specifically designed for persons working as Qualified Person of Pharmacovigilance (QPPV) in the regulatory affairs departments or related fields\, who need knowledge of the SFDA Pharmacovigilance System and processes. This training will also enhance understanding and be beneficial to persons who work in clinical research\, data management\, basic research\, and marketing\, etc. \n  \nDownload Brochure Comprehensive SFDA Pharmacovigilance System Explained Basic and Intermediate_12-13 May_2026 Riyadh
URL:https://bawazirpharma.com/event/comprehensive-sfda-pharmacovigilance-system-explained-basic-and-intermediate-4/
LOCATION:Bawazir Pharma Office\, PJW5+79\, Riyadh\, 13513\, Saudi Arabia
ORGANIZER;CN="Bawazir Pharma Consulting":MAILTO:info@bawazirpharma.com
END:VEVENT
END:VCALENDAR