BEGIN:VCALENDAR
VERSION:2.0
PRODID:-//Prof. Bawazir Pharma Consulting Center - ECPv6.15.20//NONSGML v1.0//EN
CALSCALE:GREGORIAN
METHOD:PUBLISH
X-WR-CALNAME:Prof. Bawazir Pharma Consulting Center
X-ORIGINAL-URL:https://bawazirpharma.com
X-WR-CALDESC:Events for Prof. Bawazir Pharma Consulting Center
REFRESH-INTERVAL;VALUE=DURATION:PT1H
X-Robots-Tag:noindex
X-PUBLISHED-TTL:PT1H
BEGIN:VTIMEZONE
TZID:Europe/Moscow
BEGIN:STANDARD
TZOFFSETFROM:+0300
TZOFFSETTO:+0300
TZNAME:MSK
DTSTART:20240101T000000
END:STANDARD
END:VTIMEZONE
BEGIN:VEVENT
DTSTART;TZID=Europe/Moscow:20250420T090000
DTEND;TZID=Europe/Moscow:20250420T160000
DTSTAMP:20260425T163142
CREATED:20250403T233610Z
LAST-MODIFIED:20250413T071543Z
UID:7009-1745139600-1745164800@bawazirpharma.com
SUMMARY:Advance Regulatory Understanding SFDA Drug Pricing System\, Reimbursement and Market Access. 20 April\, 2025 Riyadh
DESCRIPTION:Note:  All training programs require physical presence and will be held in Riyadh at Bawazir Pharma Center \n\n\n\nFEES\nSAUDI RIYAL\n\n\nREGISTRATION FEES \nSAR 2500.00\n\n\nEARLY BIRDS REGISTRATION FEE  \nPAY YOUR FEE BEFORE 18 April 2025. \n\nSAR 1500.00\n\n\n\n\nOVERVIEW \nThe rise in costs of pharmaceutical products in general affects all sectors of the \nhealth care industry\, including private insurers and patients. This workshop shall \ngive an overview on the pricing practices of pharmaceutical products in SFDA and GCC_DR. \nIn addition\, a thorough discussion on the pricing policy by SFDA shall be presented and what you need to learn to price your products. \n  \nDownload Brochure Advance Regulatory Understanding SFDA Drug Pricing System\, Reimbursement and Market Access 20 April 2025 Riyadh\n  \nLEARNING OBJECTIVES \nAt the conclusion of this training\, participants will be able to: \n\nUnderstand the history of pharmaceuticals pricing and the different types of pricing modalities.\nUnderstand the principals of SFDA and GCC_DR pricing system.\nHow to prepare your product pricing certificate. How to predict your product pricing\nHow to petition pricing decision.\n\nKEY TOPICS \n\nHistory of Pharmaceuticals pricing.\nModalities of pricing.\nReference pricing and reimbursement.\nPharmacoeconomic.\nPharmaceutical Pricing Policies – Regional Experience\nHow to prepare your pricing certificate?\nHow to predict your product price?\n\nWHO WILL ATTEND \n\nProfessionals working in:\n\nHealthcare Executives.\nEconomists.\nPharmaceutical Industry.\nHealth Insurance Professionals.\nLaw professionals.\nPharma Regulatory Affairs.\nScientific Office Managers.\nRegulatory Authorities.\npharmaceutical manufacturers.\nPharmacist.
URL:https://bawazirpharma.com/event/advance-regulatory-understanding-sfda-drug-pricing-system-reimbursement-and-market-access-20-april-2025-riyadh/
LOCATION:Bawazir Pharma Office\, PJW5+79\, Riyadh\, 13513\, Saudi Arabia
ORGANIZER;CN="Bawazir Pharma Consulting":MAILTO:info@bawazirpharma.com
END:VEVENT
END:VCALENDAR