BEGIN:VCALENDAR
VERSION:2.0
PRODID:-//Prof. Bawazir Pharma Consulting Center - ECPv6.15.20//NONSGML v1.0//EN
CALSCALE:GREGORIAN
METHOD:PUBLISH
X-WR-CALNAME:Prof. Bawazir Pharma Consulting Center
X-ORIGINAL-URL:https://bawazirpharma.com
X-WR-CALDESC:Events for Prof. Bawazir Pharma Consulting Center
REFRESH-INTERVAL;VALUE=DURATION:PT1H
X-Robots-Tag:noindex
X-PUBLISHED-TTL:PT1H
BEGIN:VTIMEZONE
TZID:Europe/Moscow
BEGIN:STANDARD
TZOFFSETFROM:+0300
TZOFFSETTO:+0300
TZNAME:MSK
DTSTART:20240101T000000
END:STANDARD
END:VTIMEZONE
BEGIN:VEVENT
DTSTART;TZID=Europe/Moscow:20250410T090000
DTEND;TZID=Europe/Moscow:20250410T160000
DTSTAMP:20260425T164233
CREATED:20250403T141921Z
LAST-MODIFIED:20260321T013301Z
UID:6993-1744275600-1744300800@bawazirpharma.com
SUMMARY:Common Technical Documents (CTD) and (eCTD) preparation 10 April 2025 Riyadh
DESCRIPTION:Date of training 10 April 2025 Riyadh Saudi Arabia \n\n\n\nFEES\nSAUDI RIYAL\n\n\nREGISTRATION FEES \nSAR 2500.00\n\n\nEARLY BIRDS REGISTRATION FEE  \nPAY YOUR FEE BEFORE 7 April 2025. \n\nSAR 1500.00\n\n\n\n\nOVERVIEW \nThis course will offer insight into the compilation of the  eCTDs\, share experience and best practices gained during eCTD  submissions in the GCC\, explain the eCTD review and lifecycle process and the upcoming eCTD requirements. \n 
URL:https://bawazirpharma.com/event/common-technical-documents-ctd-and-ectd-preparation-10-april-2025-riyadh/
LOCATION:Bawazir Pharma Office\, PJW5+79\, Riyadh\, 13513\, Saudi Arabia
ORGANIZER;CN="Bawazir Pharma Consulting":MAILTO:info@bawazirpharma.com
END:VEVENT
END:VCALENDAR