BEGIN:VCALENDAR
VERSION:2.0
PRODID:-//Prof. Bawazir Pharma Consulting Center - ECPv6.15.20//NONSGML v1.0//EN
CALSCALE:GREGORIAN
METHOD:PUBLISH
X-WR-CALNAME:Prof. Bawazir Pharma Consulting Center
X-ORIGINAL-URL:https://bawazirpharma.com
X-WR-CALDESC:Events for Prof. Bawazir Pharma Consulting Center
REFRESH-INTERVAL;VALUE=DURATION:PT1H
X-Robots-Tag:noindex
X-PUBLISHED-TTL:PT1H
BEGIN:VTIMEZONE
TZID:Europe/Moscow
BEGIN:STANDARD
TZOFFSETFROM:+0300
TZOFFSETTO:+0300
TZNAME:MSK
DTSTART:20220101T000000
END:STANDARD
END:VTIMEZONE
BEGIN:VEVENT
DTSTART;TZID=Europe/Moscow:20230522T090000
DTEND;TZID=Europe/Moscow:20230522T163000
DTSTAMP:20260425T051249
CREATED:20230502T120001Z
LAST-MODIFIED:20230502T120001Z
UID:5909-1684746000-1684773000@bawazirpharma.com
SUMMARY:Understanding Biological Good Manufacturing Practice GMP 22 May 2023 Riyadh
DESCRIPTION:Note: All training programs require physical presence and will be held in Riyadh at Bawazir Pharma Center\n\n\n\nFEES\nSAUDI RIYAL\n\n\nREGISTRATION FEES \nSAR 3000.00\n\n\nEARLY BIRDS REGISTRATION FEE  \nPAY YOUR FEE BEFORE  18 May\, 2023.\n\n\nSAR 2000.00\n\n\n\n\nOVERVIEW \nUnderstanding basics of Biological GMP are essential skills for people working in pharmaceutical industry. This course will provide an explanation to biological GMP guidelines and how to prepare for inspection. This training will also enhance understanding and be beneficial to persons who work in scientific offices\, regulatory affairs\, pharmaceutical manufacturers\, data management\, basic research\, project management and marketing\, etc. \n  \nDownload Brochure Understanding Biological Good Manufacturing Practice (GMP) 22_May_2023\n  \nLEARNING OBJECTIVES \nAt the conclusion of this training\, participants will be able to: \n\nUnderstand the principals of biological manufacturing.\nDescribe the components for Bio- pharmaceutical industry.\nUnderstand Host systems.\nUnderstand bioreactor systems and bioreactor modes\nUnderstand Bioprocess Engineering\nUnderstand Mammalian bioprocess\nUnderstand Cell Growth Curve and biological data and analysis\nDescribe Cell banking system\n\n  \nKEY TOPICS \n\nBio-Pharmaceutical Industry\nQuality Management\nPersonnel\nBioprocess Engineering\nMammalian Bioprocess\nCell Banking System\n\nWHO WILL ATTEND \nProfessionals working in: \n\nProduction manager\nQA manager\nQC manager\nPharma Regulatory Affairs\nScientific Office Managers\nRegulatory Authorities.\nBio & pharmaceutical manufacturers\nPharmacists\nBioprocess team\nCRO staff
URL:https://bawazirpharma.com/event/understanding-biological-good-manufacturing-practice-gmp-22-may-2023-riyadh/
LOCATION:Bawazir Pharma Office\, PJW5+79\, Riyadh\, 13513\, Saudi Arabia
ORGANIZER;CN="Bawazir Pharma Consulting":MAILTO:info@bawazirpharma.com
END:VEVENT
END:VCALENDAR