BEGIN:VCALENDAR
VERSION:2.0
PRODID:-//Prof. Bawazir Pharma Consulting Center - ECPv6.15.20//NONSGML v1.0//EN
CALSCALE:GREGORIAN
METHOD:PUBLISH
X-WR-CALNAME:Prof. Bawazir Pharma Consulting Center
X-ORIGINAL-URL:https://bawazirpharma.com
X-WR-CALDESC:Events for Prof. Bawazir Pharma Consulting Center
REFRESH-INTERVAL;VALUE=DURATION:PT1H
X-Robots-Tag:noindex
X-PUBLISHED-TTL:PT1H
BEGIN:VTIMEZONE
TZID:Europe/Moscow
BEGIN:STANDARD
TZOFFSETFROM:+0300
TZOFFSETTO:+0300
TZNAME:MSK
DTSTART:20220101T000000
END:STANDARD
END:VTIMEZONE
BEGIN:VEVENT
DTSTART;TZID=Europe/Moscow:20230319T090000
DTEND;TZID=Europe/Moscow:20230320T170000
DTSTAMP:20260425T032302
CREATED:20230305T140941Z
LAST-MODIFIED:20230305T155229Z
UID:5831-1679216400-1679331600@bawazirpharma.com
SUMMARY:SFDA Pharmacovigilance System Explained 19-20 March\, 2023 Riyadh\, Saudi Arabia
DESCRIPTION:Note:  All training programs require physical presence and will be held in Riyadh at Bawazir Pharma Center \n\n\n\nFEES\nSAUDI RIYAL\n\n\nREGISTRATION FEES \nSAR 5000.00\n\n\nEARLY BIRDS REGISTRATION FEE  \nPAY YOUR FEE BEFORE 14 March\, 2023.\nSAR 3500.00\n\n\n\nOVERVIEW \nUnderstanding Pharmacovigilance System in Saudi Arabia is very important for persons working in pharmaceutical sector in the region. This course is specifically designed for persons working as Qualified Person of Pharmacovigilance (QPPV) in the regulatory affairs departments or related fields\, who need knowledge of the SFDA Pharmacovigilance System and processes. This training will also enhance understanding and be beneficial to persons who work in clinical research\, data management\, basic research\, and marketing\, etc. \n  \nDownload Brochure SFDA Pharmacovigilance System Explained 19-20 March 2023 Riyadh\, Saudi Arabia\n  \nLEARNING OBJECTIVES \nAt the conclusion of this training\, participants will be able to: \n\nDefine the key principles and processes of pharmacovigilance\n\n\nDefine official regulatory policies and other issues pertinent to SFDA Pharmacovigilance System\nDescribe the component of the PV System\nUnderstand the role and responsibilities of the QPPV\nUnderstand national pharmacovigilance sub-system file (national PSSF)\nRecognize SFDA oversight and processes during the post-approval phase.\nUnderstand ADR case assessment\, PSUR and risk management.\nInteract appropriately with the SFDA regarding PV\nUnderstand the process of PV inspection and audits.\n\nKEY TOPICS \n\nIntroduction to Pharmacoepidemiology and Pharmacovigilance\nPharmacovigilance systems and their quality systems\nPharmacovigilance System Master File\nQualified Person Responsible for Pharmacovigilance in Saudi Arabia\nRisk Management Systems\nManagement and Reporting of Adverse Reactions to Medicinal Products\nPeriodic Safety Update Reports\nPost-Authorization Safety Studies\nSignal Management\nSafety Communication\nRisk Minimization Measures\nPharmacovigilance Inspections\nPharmacovigilance Audits\nBasic concepts of vaccines and adverse events following immunization\n\n  \nWHO WILL ATTEND \nProfessionals working in: \n\nQPPV\nPharma Regulatory Affairs\nCountry Managers\nScientific Office Managers\nContract Research Organizations (CROs)\nRegulatory Authorities.\nPharmacist\nCompliance
URL:https://bawazirpharma.com/event/sfda-pharmacovigilance-system-explained-19-20-march-2023-riyadh-saudi-arabia/
LOCATION:Bawazir Pharma Office\, PJW5+79\, Riyadh\, 13513\, Saudi Arabia
ORGANIZER;CN="Bawazir Pharma Consulting":MAILTO:info@bawazirpharma.com
END:VEVENT
END:VCALENDAR