BEGIN:VCALENDAR
VERSION:2.0
PRODID:-//Prof. Bawazir Pharma Consulting Center - ECPv6.15.20//NONSGML v1.0//EN
CALSCALE:GREGORIAN
METHOD:PUBLISH
X-WR-CALNAME:Prof. Bawazir Pharma Consulting Center
X-ORIGINAL-URL:https://bawazirpharma.com
X-WR-CALDESC:Events for Prof. Bawazir Pharma Consulting Center
REFRESH-INTERVAL;VALUE=DURATION:PT1H
X-Robots-Tag:noindex
X-PUBLISHED-TTL:PT1H
BEGIN:VTIMEZONE
TZID:Europe/Moscow
BEGIN:STANDARD
TZOFFSETFROM:+0300
TZOFFSETTO:+0300
TZNAME:MSK
DTSTART:20200101T000000
END:STANDARD
END:VTIMEZONE
BEGIN:VEVENT
DTSTART;TZID=Europe/Moscow:20210411T090000
DTEND;TZID=Europe/Moscow:20210411T170000
DTSTAMP:20260425T132948
CREATED:20210401T112946Z
LAST-MODIFIED:20210401T113113Z
UID:4259-1618131600-1618160400@bawazirpharma.com
SUMMARY:Preparing VNeeS Submission 11 April\, 2021 Riyadh
DESCRIPTION:  \n\n\n\nFEES\nSAUDI RIYAL\n\n\nREGISTRATION FEES \nSAR 2000.00\n\n\nEARLY BIRDS REGISTRATION FEE  \nPAY YOUR FEE BEFORE 10 April\, 2021. \nSAR 1500.00\n\n\n\nOVERVIEW \nEvery regulatory professional should have a solid understanding of the standards\, groundwork\, expertise and technology required to submit compliant VNees submissions. This begins with understanding what will be accepted and what will not. Put yourself and your company a step ahead of competitors by understanding the technical skills and regulatory requirements necessary to meet the impending VNees mandates. \nDownload Brochure Preparing VNeeS Submission 11 April\, 2021 Riyadh \n  \nLEARNING OBJECTIVES \nEvery regulatory professional should have a solid understanding of the standards\, groundwork\, expertise and technology required to submit compliant VNees submissions. This begins with understanding what will be accepted and what will not. Put yourself and your company a step ahead of competitors by understanding the technical skills and regulatory requirements necessary to meet the impending VNees mandates. \nAt the conclusion of this course\, participants will be able to: \n\nParticipate in the preparation of the VNees including “submission ready documents”\nRecognize VNees requirements on a regional and ICH basis\nCreate and submit technically valid GCC VNeess\nPrepare to move from a paper to VNees process\nDescribe technology used for VNees compilation\, validation and review\nUnderstand the difference between VNees and NeeS submission\nHave an overview on future eSubmission development\n\n  \nKEY TOPICS: \n\nOverview of VNees readiness at the agencies\nImpact of the VNees on regulatory processes and procedures\nVNees compilation and life cycle management\nVNees Validation\nDocument granularity and readiness\nTechnical issues\nSpecifications and standards\n\n  \nWHO WILL ATTEND \n\nProfessionals working in:\n\nPharma Regulatory Affairs\nScientific Office Managers\nRegulatory Authorities.\nDossier Management\nPharmacist\nCompliance\nSubmission Management/Electronic Publishing\nData Management / IT
URL:https://bawazirpharma.com/event/preparing-vnees-submission-11-april-2021-riyadh/
LOCATION:Bawazir Pharma Office\, PJW5+79\, Riyadh\, 13513\, Saudi Arabia
ORGANIZER;CN="Bawazir Pharma Consulting":MAILTO:info@bawazirpharma.com
END:VEVENT
END:VCALENDAR