BEGIN:VCALENDAR
VERSION:2.0
PRODID:-//Prof. Bawazir Pharma Consulting Center - ECPv6.15.20//NONSGML v1.0//EN
CALSCALE:GREGORIAN
METHOD:PUBLISH
X-WR-CALNAME:Prof. Bawazir Pharma Consulting Center
X-ORIGINAL-URL:https://bawazirpharma.com
X-WR-CALDESC:Events for Prof. Bawazir Pharma Consulting Center
REFRESH-INTERVAL;VALUE=DURATION:PT1H
X-Robots-Tag:noindex
X-PUBLISHED-TTL:PT1H
BEGIN:VTIMEZONE
TZID:Europe/Moscow
BEGIN:STANDARD
TZOFFSETFROM:+0300
TZOFFSETTO:+0300
TZNAME:MSK
DTSTART:20210101T000000
END:STANDARD
END:VTIMEZONE
BEGIN:VEVENT
DTSTART;TZID=Europe/Moscow:20221108T090000
DTEND;TZID=Europe/Moscow:20221108T163000
DTSTAMP:20260425T065730
CREATED:20220808T010853Z
LAST-MODIFIED:20220808T012438Z
UID:5283-1667898000-1667925000@bawazirpharma.com
SUMMARY:Post Approval Activities and Compliance: Variations Guideline 8 November\, 2022 Riyadh
DESCRIPTION:Note: All training programs require physical presence and will be held in Riyadh at Bawazir Pharma Center\n\n\n\nFEES\nSAUDI RIYAL\n\n\nREGISTRATION FEES \nSAR 2000.00\n\n\nEARLY BIRDS REGISTRATION FEE  \nPAY YOUR FEE BEFORE 21 October 2022.\n\n\nSAR 1000.00\n\n\n\n\nOVERVIEW\nThis course will provide an overview and analysis of the various regulatory activities that take place post-approval: In particular\, the current regulatory climate will be discussed in depth and numerous examples will be provided to illustrate effective filing of notification techniques. Common issues which have caused difficulties for pharmaceutical firms will also be discussed.  The training will discuss in detail the GCC guideline for variations management and post approval commitment. \n  \nDownload Brochure Post Approval Activities and Compliance_Variations Guideline 8_November_2022\n  \nLEARNING OBJECTIVES \n\nDescribe the role of regulatory affairs on meeting SFDA regulations\nUnderstand the regulatory activities that take place post approval of their products.\nDiscuss the post approval commitment that must be met.\nUnderstand the post approval commitment and how to help company comply with them\n\n  \nKEY TOPICS \n\nPost-approval commitments\nPV\nPSUR\nRMMs\nVariations management\n\n  \nWHO WILL ATTEND \nProfessionals working in: \n\nRegulatory Affair staff\nScientific office staff\nProduction manager\nQA Manger\nQC Manager
URL:https://bawazirpharma.com/event/post-approval-activities-and-compliance-variations-guideline-8-november-2022-riyadh/
LOCATION:Bawazir Pharma Office\, PJW5+79\, Riyadh\, 13513\, Saudi Arabia
ORGANIZER;CN="Bawazir Pharma Consulting":MAILTO:info@bawazirpharma.com
END:VEVENT
END:VCALENDAR