BEGIN:VCALENDAR
VERSION:2.0
PRODID:-//Prof. Bawazir Pharma Consulting Center - ECPv6.15.20//NONSGML v1.0//EN
CALSCALE:GREGORIAN
METHOD:PUBLISH
X-WR-CALNAME:Prof. Bawazir Pharma Consulting Center
X-ORIGINAL-URL:https://bawazirpharma.com
X-WR-CALDESC:Events for Prof. Bawazir Pharma Consulting Center
REFRESH-INTERVAL;VALUE=DURATION:PT1H
X-Robots-Tag:noindex
X-PUBLISHED-TTL:PT1H
BEGIN:VTIMEZONE
TZID:Europe/Moscow
BEGIN:STANDARD
TZOFFSETFROM:+0300
TZOFFSETTO:+0300
TZNAME:MSK
DTSTART:20200101T000000
END:STANDARD
END:VTIMEZONE
BEGIN:VEVENT
DTSTART;TZID=Europe/Moscow:20210301T090000
DTEND;TZID=Europe/Moscow:20210301T170000
DTSTAMP:20260425T152118
CREATED:20210126T143515Z
LAST-MODIFIED:20210323T142653Z
UID:3891-1614589200-1614618000@bawazirpharma.com
SUMMARY:Health and Herbal  Products Development  Process and Regulatory  Approval 1 March 2021 Riyadh
DESCRIPTION:  \n\n\n\nFEES\nSAUDI RIYAL\n\n\nREGISTRATION FEES \nSAR 1000.00\n\n\nEARLY BIRDS REGISTRATION FEE  \nPAY YOUR FEE BEFORE 24th February 2021.\nSAR 800.00\n\n\n\nOVERVIEW \nUnderstanding drug regulatory affairs in the GCC region is  very important for persons working in pharmaceutical  sector in the region. This course is specifically designed for  persons working in the regulatory affairs departments or  related fields\, who need knowledge of the SFDA and GCC  regulatory processes. This training will also enhance  understanding and be beneficial to persons who work in  clinical research\, data management\, basic research\,  project management and marketing\, etc. \n  \nLEARNING OBJECTIVES \nAt the conclusion of this training\, participants will be able to: \n\nDefine the key principles and processes used by the Saudi Food and Drug Authority (SFDA) in regulatory submission and approval.\nDefine official regulatory policies and other issues pertinent to a successful SFDA and GCC regulatory strategy\nDescribe the requirements for marketing applications for\n\nherbal and health products and document preparation. \n\nRecognize SFDA oversight and processes during the post- approval phase.\nInteract appropriately with the SFDA during all phases of drug registration\n\n  \nKEY TOPICS \n\nPrincipals of Regulatory Affairs (RA) and Legal Framework\nPrinciples of Products licensing and Evaluation\nData requirements for health and herbal products\nOverview of the SFDA Electronic systems\n\nWHO WILL ATTEND \nProfessionals working in: \n\nPharma Regulatory Affairs\nFresh Graduate\nScientific Office Managers\nRegulatory Authorities.\nDossier Management\nPharmacist\nCompliance
URL:https://bawazirpharma.com/event/health-and-herbal-products-development-process-and-regulatory-approval-1-march-2021-riyadh/
LOCATION:Bawazir Pharma Office\, PJW5+79\, Riyadh\, 13513\, Saudi Arabia
ORGANIZER;CN="Bawazir Pharma Consulting":MAILTO:info@bawazirpharma.com
END:VEVENT
END:VCALENDAR