BEGIN:VCALENDAR
VERSION:2.0
PRODID:-//Prof. Bawazir Pharma Consulting Center - ECPv6.15.20//NONSGML v1.0//EN
CALSCALE:GREGORIAN
METHOD:PUBLISH
X-WR-CALNAME:Prof. Bawazir Pharma Consulting Center
X-ORIGINAL-URL:https://bawazirpharma.com
X-WR-CALDESC:Events for Prof. Bawazir Pharma Consulting Center
REFRESH-INTERVAL;VALUE=DURATION:PT1H
X-Robots-Tag:noindex
X-PUBLISHED-TTL:PT1H
BEGIN:VTIMEZONE
TZID:Europe/Moscow
BEGIN:STANDARD
TZOFFSETFROM:+0300
TZOFFSETTO:+0300
TZNAME:MSK
DTSTART:20220101T000000
END:STANDARD
END:VTIMEZONE
BEGIN:VEVENT
DTSTART;TZID=Europe/Moscow:20230531T090000
DTEND;TZID=Europe/Moscow:20230531T163000
DTSTAMP:20260425T051436
CREATED:20230514T112449Z
LAST-MODIFIED:20230517T085751Z
UID:5945-1685523600-1685550600@bawazirpharma.com
SUMMARY:Basics of Drug Regulatory Affairs SFDA System Explained Training 31 May 2023 Jeddah
DESCRIPTION:Note:  This training require physical presence and will be held in Jeddah \n\n\n\nFEES\nSAUDI RIYAL\n\n\nREGISTRATION FEES \nSAR 10000.00\n\n\n\n\n\n\n\nOVERVIEW\nUnderstanding drug regulatory affairs in the GCC region is very important for persons working in pharmaceutical sector in the region. This course is specifically designed for persons working in the regulatory affairs departments or related fields\, who need knowledge of the SFDA  regulatory processes. This training will also enhance understanding and be beneficial to persons who work in clinical research\, data management\, basic research\, project management and marketing\, etc. \n  \nLEARNING OBJECTIVES \nAt the conclusion of this training\, participants will be able to: \n\nDefine the key principles and processes used by the Saudi Food and Drug Authority (SFDA) in regulatory submission and approval.\nDefine official regulatory policies and other issues pertinent to a successful SFDA  regulatory strategy\nDescribe key differences between National and the Gulf Cooperation Council Drug Registration (GCC_DR) regulatory requirements.\nDescribe the requirements for marketing applications for drugs and biologics\, New Drug Application (NDA)\, Biosimilares\, Generic drugs\, herbal and health products and document preparation.\nRecognise SFDA oversight and processes during the post-approval phase.\nInteract appropriately with the SFDA during all phases of drug registration\nUnderstand the regulatory requirements for prescription drug labelling and advertising/promotion.\n\n  \nKEY TOPICS \n\nPrincipals of Regulatory Affairs (RA) and Legal Framework\nSFDA overview and pharmaceutical institutions licensing\nPrinciples of Products licensing and Evaluation\nGMP Inspection and Products Pricing\nOverview of the pharmacovigilance system\nPrinciples of Products Classifications and Listing\nProducts Import\, Release and Advertising\nOverview of the SFDA Electronic systems\n\n  \nWHO WILL ATTEND \nProfessionals working in: \n\nPharma Regulatory Affairs\nFresh Graduate\nScientific Office Managers\nRegulatory Authorities.\nDossier Management\nPharmacist\nCompliance
URL:https://bawazirpharma.com/event/basics-of-drug-regulatory-affairs-sfda-system-explained-training-31-may-2023-jeddah/
LOCATION:Centro Salama Hotel\, Centro Salama Al Madinah Al Munwarrah Street Jeddah Saudi Arabia\, Jeddah\, Makkah\, Saudi Arabia
ORGANIZER;CN="Bawazir Pharma Consulting":MAILTO:info@bawazirpharma.com
END:VEVENT
END:VCALENDAR