BEGIN:VCALENDAR
VERSION:2.0
PRODID:-//Prof. Bawazir Pharma Consulting Center - ECPv6.15.20//NONSGML v1.0//EN
CALSCALE:GREGORIAN
METHOD:PUBLISH
X-WR-CALNAME:Prof. Bawazir Pharma Consulting Center
X-ORIGINAL-URL:https://bawazirpharma.com
X-WR-CALDESC:Events for Prof. Bawazir Pharma Consulting Center
REFRESH-INTERVAL;VALUE=DURATION:PT1H
X-Robots-Tag:noindex
X-PUBLISHED-TTL:PT1H
BEGIN:VTIMEZONE
TZID:Europe/Moscow
BEGIN:STANDARD
TZOFFSETFROM:+0300
TZOFFSETTO:+0300
TZNAME:MSK
DTSTART:20200101T000000
END:STANDARD
END:VTIMEZONE
BEGIN:VEVENT
DTSTART;TZID=Europe/Moscow:20210405T090000
DTEND;TZID=Europe/Moscow:20210406T170000
DTSTAMP:20260425T133746
CREATED:20210309T145314Z
LAST-MODIFIED:20210323T141504Z
UID:4153-1617613200-1617728400@bawazirpharma.com
SUMMARY:Advance Pharmacovigilance 05-06 April\, 2021 Riyadh\, Saudi Arabia
DESCRIPTION:  \n\n\n\nFEES\nSAUDI RIYAL\n\n\nREGISTRATION FEES \nSAR 4500.00\n\n\nEARLY BIRDS REGISTRATION FEE  \nPAY YOUR FEE BEFORE 02nd April\, 2021.\nSAR 3500.00\n\n\n\nOVERVIEW \nThis two-day course is designed for those who look to increase their knowledge in drug safety and will provide a comprehensive\, yet practical assessment of the main regulations required to comply with SFDA regulations. \nDownload Brochure Advance Pharmacovigilance 05-06 April\, 2021 Riyadh\, Saudi Arabia \n  \nKEY TOPICS \n\nPharmacoepidemiological methods\nManagement of PharmacovigilanceData\nSpontaneous Case Processing\nLiterature searching\nPharmacovigilance methods\nSignal detection\nCausality assessment\n\n  \nWHO WILL ATTEND \nProfessionals working in: \n\nQPPV\nPharma Regulatory Affairs\nCountry Managers\nScientific Office Managers\nContract Research Organizations (CROs)\nRegulatory Authorities.\nPharmacist\n\n 
URL:https://bawazirpharma.com/event/advance-pharmacovigilance-05-06-april-2021-riyadh-saudi-arabia/
LOCATION:Bawazir Pharma Office\, PJW5+79\, Riyadh\, 13513\, Saudi Arabia
ORGANIZER;CN="Bawazir Pharma Consulting":MAILTO:info@bawazirpharma.com
END:VEVENT
END:VCALENDAR