BEGIN:VCALENDAR
VERSION:2.0
PRODID:-//Prof. Bawazir Pharma Consulting Center - ECPv6.15.20//NONSGML v1.0//EN
CALSCALE:GREGORIAN
METHOD:PUBLISH
X-WR-CALNAME:Prof. Bawazir Pharma Consulting Center
X-ORIGINAL-URL:https://bawazirpharma.com
X-WR-CALDESC:Events for Prof. Bawazir Pharma Consulting Center
REFRESH-INTERVAL;VALUE=DURATION:PT1H
X-Robots-Tag:noindex
X-PUBLISHED-TTL:PT1H
BEGIN:VTIMEZONE
TZID:Europe/Moscow
BEGIN:STANDARD
TZOFFSETFROM:+0300
TZOFFSETTO:+0300
TZNAME:MSK
DTSTART:20210101T000000
END:STANDARD
END:VTIMEZONE
BEGIN:VEVENT
DTSTART;TZID=Europe/Moscow:20221102T090000
DTEND;TZID=Europe/Moscow:20221102T163000
DTSTAMP:20260425T065500
CREATED:20220808T135736Z
LAST-MODIFIED:20221025T112332Z
UID:5297-1667379600-1667406600@bawazirpharma.com
SUMMARY:Advance GMP I Oral Solid Dosage Form 2 November\, 2022 Riyadh
DESCRIPTION:Note: All training programs require physical presence and will be held in Riyadh at Bawazir Pharma Center\n\n\n\nFEES\nSAUDI RIYAL\n\n\nREGISTRATION FEES \nSAR 2000.00\n\n\nEARLY BIRDS REGISTRATION FEE  \nPAY YOUR FEE BEFORE  1 November\, 2022.\n\n\nSAR 1000.00\n\n\n\n\nOVERVIEW \nUnderstanding basics of GMP are essential skills for people working in pharmaceutical industry. This course will provide an explanation to SFDA GMP guidelines and how to prepare for implementation. This training will also enhance understanding and be beneficial to persons who work in product development and Technology transfer\, regulatory affairs\, pharmaceutical manufacturers\, production engineering\, site engineering\, project engineering\, Quality Operations\, facility support services etc. \n  \nDownload Brochure Advance GMP I – Oral Solid Dosage Form 02_11_2022\n  \nLEARNING OBJECTIVES \nAt the conclusion of this training\, participants will be able to: \n\nUnderstand the principals of SFDA GMP guidelines.\nDescribe the Pharmaceutical Quality System concept\, objectives and state of control.\nUnderstand the life-cycle stages and Management responsibility.\nDescribe the prerequisite for the pharmaceutical quality system.\nUnderstand the principles of developing\, designing and implementing the Pharmaceutical Quality System at Oral Solid manufacturing facility.\n\n  \nKEY TOPICS \n\nPharmaceutical Quality System (PQS)\nPQS- GMP for Medicinal Products\nPersonnel\nPremises and Equipment\nProduction – Oral Solid Dosage Form\nCase studies and Best practices\n\n  \nWHO WILL ATTEND \nProfessionals working in: \n\nProduction – OSD\nPharma Regulatory Affairs\nProduct Development\nProduction Engineers\nQuality Assurance\nPharmacist\nCompliance
URL:https://bawazirpharma.com/event/advance-gmp-i-oral-solid-dosage-form-2-november-2022-riyadh/
LOCATION:Bawazir Pharma Office\, PJW5+79\, Riyadh\, 13513\, Saudi Arabia
ORGANIZER;CN="Bawazir Pharma Consulting":MAILTO:info@bawazirpharma.com
END:VEVENT
END:VCALENDAR