BEGIN:VCALENDAR
VERSION:2.0
PRODID:-//Prof. Bawazir Pharma Consulting Center - ECPv6.15.20//NONSGML v1.0//EN
CALSCALE:GREGORIAN
METHOD:PUBLISH
X-WR-CALNAME:Prof. Bawazir Pharma Consulting Center
X-ORIGINAL-URL:https://bawazirpharma.com
X-WR-CALDESC:Events for Prof. Bawazir Pharma Consulting Center
REFRESH-INTERVAL;VALUE=DURATION:PT1H
X-Robots-Tag:noindex
X-PUBLISHED-TTL:PT1H
BEGIN:VTIMEZONE
TZID:Europe/Moscow
BEGIN:STANDARD
TZOFFSETFROM:+0300
TZOFFSETTO:+0300
TZNAME:MSK
DTSTART:20230101T000000
END:STANDARD
END:VTIMEZONE
BEGIN:VEVENT
DTSTART;TZID=Europe/Moscow:20241217T090000
DTEND;TZID=Europe/Moscow:20241218T160000
DTSTAMP:20260424T221824
CREATED:20241124T215537Z
LAST-MODIFIED:20241211T104511Z
UID:6819-1734426000-1734537600@bawazirpharma.com
SUMMARY:Advance Comprehensive Pharmacovigilance Training 17-18 December 2024 Riyadh
DESCRIPTION:Note:  All training programs require physical presence and will be held in Riyadh at Bawazir Pharma Center \n\n\n\nFEES\nSAUDI RIYAL\n\n\nREGISTRATION FEES \nSAR 6500.00\n\n\nEARLY BIRDS REGISTRATION FEE  \nPAY YOUR FEE BEFORE 16th December\, 2024.\nSAR 5200.00\n\n\n\n  \nOVERVIEW \nThis two-day course is designed for those who look to increase their knowledge in drug safety and will provide a comprehensive\, yet practical assessment of the main regulations required to comply with SFDA regulations. \nDownload Brochure Advance Comprehensive Pharmacovigilance Training 17-18 December 2024 Riyadh\, Saudi Arabia\n  \nKEY TOPICS \n\nPharmacoepidemiological methods\nManagement of PharmacovigilanceData\nSpontaneous Case Processing\nLiterature searching\nPharmacovigilance methods\nSignal detection\nCausality assessment\n\n  \nWHO WILL ATTEND \nProfessionals working in: \n\nQPPV\nPharma Regulatory Affairs\nCountry Managers\nScientific Office Managers\nContract Research Organizations (CROs)\nRegulatory Authorities.\nPharmacist
URL:https://bawazirpharma.com/event/advance-comprehensive-pharmacovigilance-training-17-18-december-2024-riyadh/
LOCATION:Bawazir Pharma Office\, PJW5+79\, Riyadh\, 13513\, Saudi Arabia
ORGANIZER;CN="Bawazir Pharma Consulting":MAILTO:info@bawazirpharma.com
END:VEVENT
END:VCALENDAR